Package: VERSO Version: 1.21.0 Command: /home/biocbuild/bbs-3.23-bioc/R/bin/R CMD build --keep-empty-dirs --no-resave-data VERSO StartedAt: 2025-11-20 20:42:59 -0500 (Thu, 20 Nov 2025) EndedAt: 2025-11-20 20:43:06 -0500 (Thu, 20 Nov 2025) EllapsedTime: 7.0 seconds RetCode: 0 Status: OK PackageFile: VERSO_1.21.0.tar.gz PackageFileSize: 677.1 KiB