Package: VERSO Version: 1.21.0 Command: /Library/Frameworks/R.framework/Resources/bin/R CMD INSTALL VERSO StartedAt: 2025-11-17 15:08:07 -0500 (Mon, 17 Nov 2025) EndedAt: 2025-11-17 15:08:51 -0500 (Mon, 17 Nov 2025) EllapsedTime: 44.1 seconds RetCode: 0 Status: OK