Package: VERSO Version: 1.21.0 Command: rm -rf VERSO.buildbin-libdir && mkdir VERSO.buildbin-libdir && /Users/biocbuild/BBS/utils/build-universal.sh VERSO_1.21.0.tar.gz /Library/Frameworks/R.framework/Resources/bin/R VERSO.buildbin-libdir StartedAt: 2025-11-18 07:29:50 -0500 (Tue, 18 Nov 2025) EndedAt: 2025-11-18 07:29:57 -0500 (Tue, 18 Nov 2025) EllapsedTime: 6.8 seconds RetCode: 0 Status: OK PackageFile: VERSO_1.21.0.tgz PackageFileSize: 666.4 KiB