Package: VERSO Version: 1.19.1 Command: rm -rf VERSO.buildbin-libdir && mkdir VERSO.buildbin-libdir && /Users/biocbuild/BBS/utils/build-universal.sh VERSO_1.19.1.tar.gz /Library/Frameworks/R.framework/Resources/bin/R VERSO.buildbin-libdir StartedAt: 2025-10-23 23:31:21 -0400 (Thu, 23 Oct 2025) EndedAt: 2025-10-23 23:31:23 -0400 (Thu, 23 Oct 2025) EllapsedTime: 2.0 seconds RetCode: 0 Status: OK PackageFile: VERSO_1.19.1.tgz PackageFileSize: 666.6 KiB