Package: VDJdive Version: 1.13.0 Command: /Library/Frameworks/R.framework/Resources/bin/R CMD build --keep-empty-dirs --no-resave-data VDJdive StartedAt: 2025-11-24 18:14:03 -0500 (Mon, 24 Nov 2025) EndedAt: 2025-11-24 18:14:21 -0500 (Mon, 24 Nov 2025) EllapsedTime: 18.2 seconds RetCode: 0 Status: OK PackageFile: VDJdive_1.13.0.tar.gz PackageFileSize: 548 KiB