Package: VCFArray Version: 1.25.0 Command: /home/biocbuild/R/R/bin/R CMD check --install=check:VCFArray.install-out.txt --library=/home/biocbuild/R/R/site-library --no-vignettes --timings VCFArray_1.25.0.tar.gz StartedAt: 2025-09-30 14:34:04 -0000 (Tue, 30 Sep 2025) EndedAt: 2025-09-30 14:40:06 -0000 (Tue, 30 Sep 2025) EllapsedTime: 362.3 seconds RetCode: 0 Status: OK CheckDir: VCFArray.Rcheck Warnings: 0