Package: VCFArray Version: 1.27.0 Command: /home/biocbuild/bbs-3.23-bioc/R/bin/R CMD INSTALL VCFArray StartedAt: 2025-11-03 15:56:30 -0500 (Mon, 03 Nov 2025) EndedAt: 2025-11-03 15:57:14 -0500 (Mon, 03 Nov 2025) EllapsedTime: 43.6 seconds RetCode: 0 Status: OK