Package: VAExprs Version: 1.17.0 Command: /home/biocbuild/bbs-3.23-bioc/R/bin/R CMD INSTALL VAExprs StartedAt: 2025-11-04 15:54:52 -0500 (Tue, 04 Nov 2025) EndedAt: 2025-11-04 15:55:27 -0500 (Tue, 04 Nov 2025) EllapsedTime: 34.9 seconds RetCode: 0 Status: OK