Package: VAExprs Version: 1.17.0 Command: /home/biocbuild/bbs-3.23-bioc/R/bin/R CMD build --keep-empty-dirs --no-resave-data VAExprs StartedAt: 2025-11-05 20:40:15 -0500 (Wed, 05 Nov 2025) EndedAt: 2025-11-05 20:40:59 -0500 (Wed, 05 Nov 2025) EllapsedTime: 44.0 seconds RetCode: 0 Status: OK PackageFile: VAExprs_1.17.0.tar.gz PackageFileSize: 561.8 KiB