Package: VAExprs Version: 1.15.0 Command: /Library/Frameworks/R.framework/Resources/bin/R CMD INSTALL VAExprs StartedAt: 2025-10-13 15:50:50 -0400 (Mon, 13 Oct 2025) EndedAt: 2025-10-13 15:51:38 -0400 (Mon, 13 Oct 2025) EllapsedTime: 48.1 seconds RetCode: 0 Status: OK