Package: VAExprs Version: 1.15.0 Command: /Library/Frameworks/R.framework/Resources/bin/R CMD build --keep-empty-dirs --no-resave-data VAExprs StartedAt: 2025-10-13 19:48:10 -0400 (Mon, 13 Oct 2025) EndedAt: 2025-10-13 19:49:26 -0400 (Mon, 13 Oct 2025) EllapsedTime: 76.5 seconds RetCode: 1 Status: ERROR PackageFile: None PackageFileSize: NA