Package: VAExprs Version: 1.15.0 Command: /Library/Frameworks/R.framework/Resources/bin/R CMD INSTALL VAExprs StartedAt: 2025-10-03 15:29:17 -0400 (Fri, 03 Oct 2025) EndedAt: 2025-10-03 15:29:32 -0400 (Fri, 03 Oct 2025) EllapsedTime: 14.5 seconds RetCode: 0 Status: OK