Package: VAExprs Version: 1.15.0 Command: /Library/Frameworks/R.framework/Resources/bin/R CMD build --keep-empty-dirs --no-resave-data VAExprs StartedAt: 2025-10-03 18:00:45 -0400 (Fri, 03 Oct 2025) EndedAt: 2025-10-03 18:01:02 -0400 (Fri, 03 Oct 2025) EllapsedTime: 17.2 seconds RetCode: 0 Status: OK PackageFile: VAExprs_1.15.0.tar.gz PackageFileSize: 561.7 KiB