Package: Uniquorn Version: 2.31.0 Command: /home/biocbuild/bbs-3.23-bioc/R/bin/R CMD build --keep-empty-dirs --no-resave-data Uniquorn StartedAt: 2025-11-19 20:40:39 -0500 (Wed, 19 Nov 2025) EndedAt: 2025-11-19 20:41:19 -0500 (Wed, 19 Nov 2025) EllapsedTime: 40.0 seconds RetCode: 0 Status: OK PackageFile: Uniquorn_2.31.0.tar.gz PackageFileSize: 2.196 MiB