Package: Uniquorn Version: 2.29.1 Command: /Library/Frameworks/R.framework/Resources/bin/R CMD INSTALL Uniquorn StartedAt: 2025-10-15 15:21:29 -0400 (Wed, 15 Oct 2025) EndedAt: 2025-10-15 15:21:45 -0400 (Wed, 15 Oct 2025) EllapsedTime: 15.7 seconds RetCode: 0 Status: OK