Package: Uniquorn Version: 2.29.1 Command: /Library/Frameworks/R.framework/Resources/bin/R CMD build --keep-empty-dirs --no-resave-data Uniquorn StartedAt: 2025-10-16 18:14:51 -0400 (Thu, 16 Oct 2025) EndedAt: 2025-10-16 18:15:08 -0400 (Thu, 16 Oct 2025) EllapsedTime: 17.2 seconds RetCode: 0 Status: OK PackageFile: Uniquorn_2.29.1.tar.gz PackageFileSize: 2.196 MiB