Package: Uniquorn Version: 2.29.1 Command: rm -rf Uniquorn.buildbin-libdir && mkdir Uniquorn.buildbin-libdir && /Users/biocbuild/BBS/utils/build-universal.sh Uniquorn_2.29.1.tar.gz /Library/Frameworks/R.framework/Resources/bin/R Uniquorn.buildbin-libdir StartedAt: 2025-10-16 23:21:31 -0400 (Thu, 16 Oct 2025) EndedAt: 2025-10-16 23:21:48 -0400 (Thu, 16 Oct 2025) EllapsedTime: 17.3 seconds RetCode: 0 Status: OK PackageFile: Uniquorn_2.29.1.tgz PackageFileSize: 2.323 MiB