Package: UniProt.ws Version: 2.49.4 Command: /home/biocbuild/R/R/bin/R CMD INSTALL UniProt.ws StartedAt: 2025-10-06 20:46:19 -0000 (Mon, 06 Oct 2025) EndedAt: 2025-10-06 20:46:39 -0000 (Mon, 06 Oct 2025) EllapsedTime: 19.4 seconds RetCode: 0 Status: OK