Package: UniProt.ws Version: 2.49.4 Command: /home/biocbuild/R/R/bin/R CMD build --keep-empty-dirs --no-resave-data UniProt.ws StartedAt: 2025-10-07 03:46:10 -0000 (Tue, 07 Oct 2025) EndedAt: 2025-10-07 03:46:47 -0000 (Tue, 07 Oct 2025) EllapsedTime: 37.0 seconds RetCode: 0 Status: OK PackageFile: UniProt.ws_2.49.4.tar.gz PackageFileSize: 267.2 KiB