Package: UniProt.ws Version: 2.49.4 Command: /home/biocbuild/bbs-3.22-bioc/R/bin/R CMD INSTALL UniProt.ws StartedAt: 2025-09-30 15:31:37 -0400 (Tue, 30 Sep 2025) EndedAt: 2025-09-30 15:31:51 -0400 (Tue, 30 Sep 2025) EllapsedTime: 14.5 seconds RetCode: 0 Status: OK