Package: UniProt.ws Version: 2.49.4 Command: /home/biocbuild/bbs-3.22-bioc/R/bin/R CMD check --install=check:UniProt.ws.install-out.txt --library=/home/biocbuild/bbs-3.22-bioc/R/site-library --timings UniProt.ws_2.49.4.tar.gz StartedAt: 2025-10-01 05:20:03 -0400 (Wed, 01 Oct 2025) EndedAt: 2025-10-01 05:22:37 -0400 (Wed, 01 Oct 2025) EllapsedTime: 154.2 seconds RetCode: 0 Status: OK CheckDir: UniProt.ws.Rcheck Warnings: 0