Package: UniProt.ws Version: 2.49.4 Command: /home/biocbuild/bbs-3.22-bioc/R/bin/R CMD build --keep-empty-dirs --no-resave-data --md5 UniProt.ws StartedAt: 2025-09-30 20:38:10 -0400 (Tue, 30 Sep 2025) EndedAt: 2025-09-30 20:38:36 -0400 (Tue, 30 Sep 2025) EllapsedTime: 26.0 seconds RetCode: 0 Status: OK PackageFile: UniProt.ws_2.49.4.tar.gz PackageFileSize: 241.9 KiB