Package: UniProt.ws Version: 2.51.0 Command: /home/biocbuild/bbs-3.23-bioc/R/bin/R CMD check --install=check:UniProt.ws.install-out.txt --library=/home/biocbuild/bbs-3.23-bioc/R/site-library --timings UniProt.ws_2.51.0.tar.gz StartedAt: 2025-11-22 05:06:43 -0500 (Sat, 22 Nov 2025) EndedAt: 2025-11-22 05:09:16 -0500 (Sat, 22 Nov 2025) EllapsedTime: 153.2 seconds RetCode: 0 Status: OK CheckDir: UniProt.ws.Rcheck Warnings: 0