Package: UniProt.ws Version: 2.49.4 Command: /Library/Frameworks/R.framework/Resources/bin/R CMD build --keep-empty-dirs --no-resave-data UniProt.ws StartedAt: 2025-09-29 19:11:43 -0400 (Mon, 29 Sep 2025) EndedAt: 2025-09-29 19:12:24 -0400 (Mon, 29 Sep 2025) EllapsedTime: 40.0 seconds RetCode: 0 Status: OK PackageFile: UniProt.ws_2.49.4.tar.gz PackageFileSize: 241 KiB