Package: UniProt.ws Version: 2.49.4 Command: /Library/Frameworks/R.framework/Resources/bin/R CMD INSTALL UniProt.ws StartedAt: 2025-09-30 15:09:53 -0400 (Tue, 30 Sep 2025) EndedAt: 2025-09-30 15:09:59 -0400 (Tue, 30 Sep 2025) EllapsedTime: 5.9 seconds RetCode: 0 Status: OK