Package: UniProt.ws Version: 2.49.4 Command: /Library/Frameworks/R.framework/Resources/bin/R CMD build --keep-empty-dirs --no-resave-data UniProt.ws StartedAt: 2025-09-30 18:05:21 -0400 (Tue, 30 Sep 2025) EndedAt: 2025-09-30 18:05:35 -0400 (Tue, 30 Sep 2025) EllapsedTime: 13.2 seconds RetCode: 0 Status: OK PackageFile: UniProt.ws_2.49.4.tar.gz PackageFileSize: 241 KiB