Package: UniProt.ws Version: 2.49.4 Maintainer: Marcel Ramos MaintainerEmail: marcel.ramos at sph.cuny.edu git_url: https://git.bioconductor.org/packages/UniProt.ws git_branch: devel git_last_commit: 0d308fa git_last_commit_date: 2025-09-15 12:27:52 -0400 (Mon, 15 Sep 2025)