Package: Ularcirc Version: 1.27.2 Command: /home/biocbuild/R/R/bin/R CMD INSTALL Ularcirc StartedAt: 2025-10-09 21:45:46 -0000 (Thu, 09 Oct 2025) EndedAt: 2025-10-09 21:45:58 -0000 (Thu, 09 Oct 2025) EllapsedTime: 12.0 seconds RetCode: 0 Status: OK