Package: Ularcirc Version: 1.27.2 Command: /home/biocbuild/R/R/bin/R CMD build --keep-empty-dirs --no-resave-data Ularcirc StartedAt: 2025-10-10 04:57:23 -0000 (Fri, 10 Oct 2025) EndedAt: 2025-10-10 04:57:40 -0000 (Fri, 10 Oct 2025) EllapsedTime: 17.0 seconds RetCode: 0 Status: OK PackageFile: Ularcirc_1.27.2.tar.gz PackageFileSize: 5.239 MiB