Package: Ularcirc Version: 1.27.0 Command: F:\biocbuild\bbs-3.22-bioc\R\bin\R.exe CMD INSTALL Ularcirc StartedAt: 2025-08-14 17:12:44 -0400 (Thu, 14 Aug 2025) EndedAt: 2025-08-14 17:12:45 -0400 (Thu, 14 Aug 2025) EllapsedTime: 0.4 seconds RetCode: 1 Status: ERROR