############################################################################## ############################################################################## ### ### Running command: ### ### chmod a+r Ularcirc -R && F:\biocbuild\bbs-3.22-bioc\R\bin\R.exe CMD build --keep-empty-dirs --no-resave-data Ularcirc ### ############################################################################## ############################################################################## * checking for file 'Ularcirc/DESCRIPTION' ... OK * preparing 'Ularcirc': * checking DESCRIPTION meta-information ... OK * installing the package to build vignettes ----------------------------------- ERROR: dependency 'mirbase.db' is not available for package 'Ularcirc' Perhaps try a variation of: install.packages('mirbase.db') * removing 'F:/biocbuild/bbs-3.22-bioc/tmpdir/RtmpQpgM3V/Rinst1e44167d67e3/Ularcirc' ----------------------------------- ERROR: package installation failed