Package: Ularcirc Version: 1.27.0 Command: rm -rf Ularcirc.buildbin-libdir && mkdir Ularcirc.buildbin-libdir && F:\biocbuild\bbs-3.22-bioc\R\bin\R.exe CMD INSTALL --build --library=Ularcirc.buildbin-libdir Ularcirc_1.27.0.tar.gz StartedAt: 2025-06-19 10:22:13 -0400 (Thu, 19 Jun 2025) EndedAt: 2025-06-19 10:22:39 -0400 (Thu, 19 Jun 2025) EllapsedTime: 25.3 seconds RetCode: 0 Status: OK PackageFile: Ularcirc_1.27.0.zip PackageFileSize: 4.854 MiB