Package: Ularcirc Version: 1.29.0 Command: /home/biocbuild/bbs-3.23-bioc/R/bin/R CMD check --install=check:Ularcirc.install-out.txt --library=/home/biocbuild/bbs-3.23-bioc/R/site-library --timings Ularcirc_1.29.0.tar.gz StartedAt: 2025-11-15 05:11:23 -0500 (Sat, 15 Nov 2025) EndedAt: 2025-11-15 05:13:07 -0500 (Sat, 15 Nov 2025) EllapsedTime: 104.1 seconds RetCode: 0 Status: WARNINGS CheckDir: Ularcirc.Rcheck Warnings: 1