Package: UPDhmm Version: 1.7.0 Command: /home/biocbuild/bbs-3.23-bioc/R/bin/R CMD INSTALL UPDhmm StartedAt: 2025-11-18 16:33:22 -0500 (Tue, 18 Nov 2025) EndedAt: 2025-11-18 16:33:24 -0500 (Tue, 18 Nov 2025) EllapsedTime: 2.0 seconds RetCode: 0 Status: OK