Package: UPDhmm Version: 1.5.1 Command: /Library/Frameworks/R.framework/Resources/bin/R CMD INSTALL UPDhmm StartedAt: 2025-10-15 15:37:08 -0400 (Wed, 15 Oct 2025) EndedAt: 2025-10-15 15:37:11 -0400 (Wed, 15 Oct 2025) EllapsedTime: 3.8 seconds RetCode: 0 Status: OK