Package: UPDhmm Version: 1.5.1 Command: /Library/Frameworks/R.framework/Resources/bin/R CMD build --keep-empty-dirs --no-resave-data UPDhmm StartedAt: 2025-10-15 19:52:59 -0400 (Wed, 15 Oct 2025) EndedAt: 2025-10-15 19:53:39 -0400 (Wed, 15 Oct 2025) EllapsedTime: 40.0 seconds RetCode: 0 Status: OK PackageFile: UPDhmm_1.5.1.tar.gz PackageFileSize: 1.112 MiB