Package: UPDhmm Version: 1.5.1 Command: rm -rf UPDhmm.buildbin-libdir && mkdir UPDhmm.buildbin-libdir && /Users/biocbuild/BBS/utils/build-universal.sh UPDhmm_1.5.1.tar.gz /Library/Frameworks/R.framework/Resources/bin/R UPDhmm.buildbin-libdir StartedAt: 2025-10-15 03:14:41 -0400 (Wed, 15 Oct 2025) EndedAt: 2025-10-15 03:14:46 -0400 (Wed, 15 Oct 2025) EllapsedTime: 5.9 seconds RetCode: 0 Status: OK PackageFile: UPDhmm_1.5.1.tgz PackageFileSize: 1.141 MiB