Package: UPDhmm Version: 1.5.0 Command: /Library/Frameworks/R.framework/Resources/bin/R CMD INSTALL UPDhmm StartedAt: 2025-09-28 15:22:58 -0400 (Sun, 28 Sep 2025) EndedAt: 2025-09-28 15:22:59 -0400 (Sun, 28 Sep 2025) EllapsedTime: 1.2 seconds RetCode: 0 Status: OK