Package: UPDhmm Version: 1.7.0 Maintainer: Marta Sevilla MaintainerEmail: marta.sevilla at upf.edu git_url: https://git.bioconductor.org/packages/UPDhmm git_branch: devel git_last_commit: 031c3fa git_last_commit_date: 2025-10-29 11:29:26 -0400 (Wed, 29 Oct 2025)