Package: UNDO Version: 1.51.0 Command: /Library/Frameworks/R.framework/Resources/bin/R CMD INSTALL UNDO StartedAt: 2025-10-12 15:15:40 -0400 (Sun, 12 Oct 2025) EndedAt: 2025-10-12 15:15:52 -0400 (Sun, 12 Oct 2025) EllapsedTime: 12.0 seconds RetCode: 0 Status: OK