Package: UNDO Version: 1.51.0 Command: rm -rf UNDO.buildbin-libdir && mkdir UNDO.buildbin-libdir && /Users/biocbuild/BBS/utils/build-universal.sh UNDO_1.51.0.tar.gz /Library/Frameworks/R.framework/Resources/bin/R UNDO.buildbin-libdir StartedAt: 2025-10-14 03:14:21 -0400 (Tue, 14 Oct 2025) EndedAt: 2025-10-14 03:14:29 -0400 (Tue, 14 Oct 2025) EllapsedTime: 8.2 seconds RetCode: 0 Status: OK PackageFile: UNDO_1.51.0.tgz PackageFileSize: 2.888 MiB