Package: UNDO Version: 1.53.0 Maintainer: Niya Wang MaintainerEmail: wangny at vt.edu git_url: https://git.bioconductor.org/packages/UNDO git_branch: devel git_last_commit: a43bf55 git_last_commit_date: 2025-10-29 10:18:39 -0400 (Wed, 29 Oct 2025)