Package: UMI4Cats Version: 1.21.0 Command: /home/biocbuild/bbs-3.23-bioc/R/bin/R CMD INSTALL UMI4Cats StartedAt: 2025-11-16 15:51:57 -0500 (Sun, 16 Nov 2025) EndedAt: 2025-11-16 15:52:33 -0500 (Sun, 16 Nov 2025) EllapsedTime: 36.7 seconds RetCode: 0 Status: OK