Package: UMI4Cats Version: 1.21.0 Command: /home/biocbuild/bbs-3.23-bioc/R/bin/R CMD build --keep-empty-dirs --no-resave-data UMI4Cats StartedAt: 2025-11-16 20:44:16 -0500 (Sun, 16 Nov 2025) EndedAt: 2025-11-16 20:46:03 -0500 (Sun, 16 Nov 2025) EllapsedTime: 107.1 seconds RetCode: 0 Status: OK PackageFile: UMI4Cats_1.21.0.tar.gz PackageFileSize: 3.771 MiB