Package: UMI4Cats Version: 1.21.0 Command: /Library/Frameworks/R.framework/Resources/bin/R CMD INSTALL UMI4Cats StartedAt: 2025-11-18 15:46:06 -0500 (Tue, 18 Nov 2025) EndedAt: 2025-11-18 15:46:57 -0500 (Tue, 18 Nov 2025) EllapsedTime: 51.3 seconds RetCode: 0 Status: OK