Package: UMI4Cats Version: 1.21.0 Command: /Library/Frameworks/R.framework/Resources/bin/R CMD build --keep-empty-dirs --no-resave-data UMI4Cats StartedAt: 2025-11-18 19:03:35 -0500 (Tue, 18 Nov 2025) EndedAt: 2025-11-18 19:05:52 -0500 (Tue, 18 Nov 2025) EllapsedTime: 137.2 seconds RetCode: 0 Status: OK PackageFile: UMI4Cats_1.21.0.tar.gz PackageFileSize: 3.822 MiB