Package: UMI4Cats Version: 1.21.0 Command: rm -rf UMI4Cats.buildbin-libdir && mkdir UMI4Cats.buildbin-libdir && /Users/biocbuild/BBS/utils/build-universal.sh UMI4Cats_1.21.0.tar.gz /Library/Frameworks/R.framework/Resources/bin/R UMI4Cats.buildbin-libdir StartedAt: 2025-11-20 02:02:13 -0500 (Thu, 20 Nov 2025) EndedAt: 2025-11-20 02:03:09 -0500 (Thu, 20 Nov 2025) EllapsedTime: 55.5 seconds RetCode: 0 Status: OK PackageFile: UMI4Cats_1.21.0.tgz PackageFileSize: 3.373 MiB