Package: UMI4Cats Version: 1.19.3 Command: /Library/Frameworks/R.framework/Resources/bin/R CMD INSTALL UMI4Cats StartedAt: 2025-10-23 15:27:12 -0400 (Thu, 23 Oct 2025) EndedAt: 2025-10-23 15:27:29 -0400 (Thu, 23 Oct 2025) EllapsedTime: 16.5 seconds RetCode: 0 Status: OK