Package: UMI4Cats Version: 1.19.3 Command: /Library/Frameworks/R.framework/Resources/bin/R CMD build --keep-empty-dirs --no-resave-data UMI4Cats StartedAt: 2025-10-23 18:08:06 -0400 (Thu, 23 Oct 2025) EndedAt: 2025-10-23 18:08:55 -0400 (Thu, 23 Oct 2025) EllapsedTime: 49.6 seconds RetCode: 0 Status: OK PackageFile: UMI4Cats_1.19.3.tar.gz PackageFileSize: 3.823 MiB