Package: UMI4Cats Version: 1.19.3 Command: rm -rf UMI4Cats.buildbin-libdir && mkdir UMI4Cats.buildbin-libdir && /Users/biocbuild/BBS/utils/build-universal.sh UMI4Cats_1.19.3.tar.gz /Library/Frameworks/R.framework/Resources/bin/R UMI4Cats.buildbin-libdir StartedAt: 2025-10-24 23:23:29 -0400 (Fri, 24 Oct 2025) EndedAt: 2025-10-24 23:23:46 -0400 (Fri, 24 Oct 2025) EllapsedTime: 16.3 seconds RetCode: 0 Status: OK PackageFile: UMI4Cats_1.19.3.tgz PackageFileSize: 3.378 MiB